BEGIN:VCALENDAR
VERSION:2.0
PRODID:-//My Community Diary//iCal Event//EN
CALSCALE:GREGORIAN
METHOD:PUBLISH
BEGIN:VEVENT
UID:550a1e76-5ccd-431a-bf97-a99601914ce4
DTSTAMP:20260422T033625Z
DTSTART;VALUE=DATE:20260428
DTEND;VALUE=DATE:20260429
SUMMARY:Life Drawing at The Victoria Bathurst
DESCRIPTION:Set within Bathurst's favourite town-centre pub\, join The Tipsy Sketching Club for an evening of sipping\, snacking and sketching with some fun and frivolity thrown into the mix. \n\nThe life drawing session runs for approximately two hours with a range of timed poses from 2-30 minutes and breaks for drinks\, food\, sharing and laughing. Drawing materials can be supplied\, however\, if you have your own - bring them! All mediums and artistic abilities are welcome.\n\nEntry Cost\nAll tickets $35  - 18+ event
LOCATION:\, 3 Keppel Street Little Alberts\, Bathurst\, NSW 2795\, NSW\, 2795
RRULE:FREQ=DAILY;INTERVAL=1;UNTIL=20260430T000000Z
END:VEVENT
END:VCALENDAR
