BEGIN:VCALENDAR
VERSION:2.0
PRODID:-//My Community Diary//iCal Event//EN
CALSCALE:GREGORIAN
METHOD:PUBLISH
BEGIN:VEVENT
UID:42e36383-3a6c-41b1-85b4-66dadfb70c90
DTSTAMP:20260422T035544Z
DTSTART;VALUE=DATE:20260527
DTEND;VALUE=DATE:20260528
SUMMARY:Letz Zep (UK) – Led Zeppelin Tribute
DESCRIPTION:Described by Kerrang! magazine as "better than a Led Zeppelin reunion" and hailed by Warner Music as "Europe's best tribute to Led Zeppelin\," Letz Zep has earned its reputation as the world's premier tribute to the greatest rock band of all time.\n\nCelebrating the legendary music of Led Zeppelin\, Letz Zep delivers an electrifying live experience that captures the raw power\, soul\, and swagger of the original band in their prime. Their setlist features classics like 'Stairway to Heaven'\, 'Immigrant Song'\, 'Black Dog'\, 'Rock and Roll'\, 'Kashmir'\, 'Whole Lotta Love'\, 'Ramble On'\, 'Heartbreaker'\, 'Good Times Bad Times'\, 'Dazed and Confused' plus many more fan favourites.\n\nEven Led Zeppelin's founding members Jimmy Page and Robert Plant have attended Letz Zep performances. So impressed were they\, they personally invited the band to perform at the official launch of Led Zeppelin's compilation album 'Mothership'. With uncanny musical precision and the "tight but loose" energy that defined Zeppelin's legendary concerts\, Letz Zep offers fans a chance to relive the magic. As audiences often say: "Close your eyes\, and it's Led Zeppelin themselves."\n\nEntry Cost\nAll tickets $79.9 
LOCATION:\, 253 Crawford Street\, Queanbeyan\, NSW 2620\, NSW\, 2620
END:VEVENT
END:VCALENDAR
