BEGIN:VCALENDAR
VERSION:2.0
PRODID:-//My Community Diary//iCal Event//EN
CALSCALE:GREGORIAN
METHOD:PUBLISH
BEGIN:VEVENT
UID:d2091812-c240-4659-85a9-7b1aaecba749
DTSTAMP:20260421T211409Z
DTSTART;VALUE=DATE:20260531
DTEND;VALUE=DATE:20260601
SUMMARY:Lazy Sundays at The Wild Vine
DESCRIPTION:Lazy Sundays at the Vines is serving up good banter\, tasty tapas and delicious bevies. \n\nEnjoy a relaxing Sunday at The Wild Vine with views of the surrounding countryside whilst enjoying good company\, local music and of course a glass of wine.\n\nPlease join them for these Lazy Sundays in the Vines.
LOCATION:\, 1313 Oura Road\, Oura\, NSW 2650\, NSW\, 2650
RRULE:FREQ=DAILY;INTERVAL=1;UNTIL=20260602T000000Z
END:VEVENT
END:VCALENDAR
