BEGIN:VCALENDAR
VERSION:2.0
PRODID:-//My Community Diary//iCal Event//EN
CALSCALE:GREGORIAN
METHOD:PUBLISH
BEGIN:VEVENT
UID:565d2e60-f04a-4800-a6d8-37466dc9e27c
DTSTAMP:20260421T225604Z
DTSTART;VALUE=DATE:20260829
DTEND;VALUE=DATE:20260830
SUMMARY:Lano and Woodley - In Space - Newcastle
DESCRIPTION:Lano and Woodley are all alone on a spaceship.  Or are they?  Commander Col is focused on their important mission. Co-pilot Woodley … isn't.\n\nOne thing is for sure\, when Frank and Colin launch into space\, the stage will come alive with an hour of sublime\, inventive and ridiculous comedy.\n\nFilled with their virtuosic physical routines and hilarious love/hate bickering\, Lano and Woodley in Space is side-splitting fun to infinity and beyond.\n\nJoin Australia's favourite comedy double act for the Space adventure to possibly end all Space adventures.\n\nEntry Cost\nAll tickets $49 
LOCATION:\, 375 Hunter Street\, Newcastle\, NSW 2300\, NSW\, 2300
END:VEVENT
END:VCALENDAR
