BEGIN:VCALENDAR
VERSION:2.0
PRODID:-//My Community Diary//iCal Event//EN
CALSCALE:GREGORIAN
METHOD:PUBLISH
BEGIN:VEVENT
UID:4949422d-09ea-4b5f-80ca-ae1381e7af79
DTSTAMP:20260422T005017Z
DTSTART;VALUE=DATE:20261107
DTEND;VALUE=DATE:20261108
SUMMARY:Lake Macquarie Outdoor Living and Caravan Expo
DESCRIPTION:Welcome to the inaugural Lake Macquarie Outdoor Living and Caravan Expo! Where adventure starts! \n\nA must-visit for outdoor enthusiasts for over a decade\, they're now bringing the excitement to the Morisset Showgrounds. You'll find a showcase of the latest in caravans\, camper trailers\, 4x4 gear and all things outdoor living – all in one place.\n\nWith exclusive show-only deals\, industry experts and all the biggest brands in one place\, this is your chance to gear up for your next escape. \n\nWhether you're hitting the road or setting sail\, get ready to explore\, dream and discover!\n\nEntry Cost\nAll tickets $13 
LOCATION:\, 40 Ourimbah Street\, Morisset\, NSW 2264\, NSW\, 2264
RRULE:FREQ=DAILY;INTERVAL=1;UNTIL=20261109T000000Z
END:VEVENT
END:VCALENDAR
