BEGIN:VCALENDAR
VERSION:2.0
PRODID:-//My Community Diary//iCal Event//EN
CALSCALE:GREGORIAN
METHOD:PUBLISH
BEGIN:VEVENT
UID:e6466bcd-c832-4f93-a189-a3bcec6e6e22
DTSTAMP:20260422T105949Z
DTSTART;VALUE=DATE:20260809
DTEND;VALUE=DATE:20260810
SUMMARY:Lake Mac Wedding Fair
DESCRIPTION:Introducing the third and final stop of Wedding Fairs Series Six by Hunter Events NSW.\n\nThis curated wedding fair experience travels to iconic venues across the Hunter Region\, including Newcastle\, Hunter Valley and Lake Macquarie. Each event is thoughtfully designed to inspire couples and support them at every stage of their wedding planning journey.\n\nWedding Fairs is perfect for couples throughout all stages of their wedding planning journey. They connect you with incredible local vendors and provide you with inspiration\, tips and tricks\, opportunities to save on your budget\, plus tick-off items from your wedding checklist.\n\nYou can expect award-winning vendors\, up-and-coming vendors\, free floral workshops\, exclusive on-day offers and discounts\, win giveaways and prizes\, live music and free event programs.\n\nGuests leave feeling informed\, inspired and wedding ready\, with trusted connections and clear direction for their celebration.\n\nEntry Cost\nAdult $5 \nGroup $15 
LOCATION:\, 27 Mawson Cl\, Caves Beach\, NSW 2281\, NSW\, 2281
END:VEVENT
END:VCALENDAR
