BEGIN:VCALENDAR
VERSION:2.0
PRODID:-//My Community Diary//iCal Event//EN
CALSCALE:GREGORIAN
METHOD:PUBLISH
BEGIN:VEVENT
UID:2046ffd9-9545-4711-847e-a842db4c6867
DTSTAMP:20260421T205530Z
DTSTART;VALUE=DATE:20261110
DTEND;VALUE=DATE:20261111
SUMMARY:Lake Mac Open Studios
DESCRIPTION:Lake Macquarie's talented artists and makers are throwing open their studio doors for the annual Lake Mac Open Studios. \n\n57 artisans across 36 studios will be showcasing their work in mediums including painting\, sculpture\, ceramics\, mosaic\, textiles and more.\n\nYou are invited to meet and connect with local creatives\, Discover the stories behind their work\, enjoy a unique behind-the-scenes look at the creative process and purchase one-of-a-kind artworks and gifts by local artists.
LOCATION:\, Warners Bay\, NSW 2282\, NSW\, 2282
RRULE:FREQ=DAILY;INTERVAL=1;UNTIL=20261112T000000Z
END:VEVENT
END:VCALENDAR
