BEGIN:VCALENDAR
VERSION:2.0
PRODID:-//My Community Diary//iCal Event//EN
CALSCALE:GREGORIAN
METHOD:PUBLISH
BEGIN:VEVENT
UID:cf510224-315f-4908-8843-bc8dd64a742d
DTSTAMP:20260421T225602Z
DTSTART;VALUE=DATE:20270122
DTEND;VALUE=DATE:20270123
SUMMARY:Lake Mac Festival
DESCRIPTION:The Lake Mac Festival returns this January with a vibrant mix of live music\, family-friendly festivals\, artisan markets\, and community celebrations. Make the most of the Australia Day long weekend and enjoy everything Lake Macquarie has to offer.\n\nFeaturing bustling markets\, community festivals\, and live music throughout the city.\n\nIt's an unmissable season of fun and festivities! For more information on live sites visit the website.
LOCATION:\, Rathmines\, NSW 2283\, NSW\, 2283
RRULE:FREQ=DAILY;INTERVAL=1;UNTIL=20270124T000000Z
END:VEVENT
END:VCALENDAR
