BEGIN:VCALENDAR
VERSION:2.0
PRODID:-//My Community Diary//iCal Event//EN
CALSCALE:GREGORIAN
METHOD:PUBLISH
BEGIN:VEVENT
UID:98af9e92-f00c-4099-b51e-a7c378130383
DTSTAMP:20260422T035634Z
DTSTART;VALUE=DATE:20260904
DTEND;VALUE=DATE:20260905
SUMMARY:Ladies Night at Hey Lady Diner
DESCRIPTION:Celebrate the ladies with a fun and inclusive night out! Enjoy great music\, good vibes\, and a fantastic time on the first Friday of every month. Whether you're coming with the girls or bringing your mates\, everyone's welcome\,  yes\, men too! Gather your crew for a lively night of dancing\, laughter\, and great company.
LOCATION:\, 105 River Street\, Ballina\, NSW 2478\, NSW\, 2478
RRULE:FREQ=DAILY;INTERVAL=1;UNTIL=20260906T000000Z
END:VEVENT
END:VCALENDAR
