BEGIN:VCALENDAR
VERSION:2.0
PRODID:-//My Community Diary//iCal Event//EN
CALSCALE:GREGORIAN
METHOD:PUBLISH
BEGIN:VEVENT
UID:9416ba4d-597b-4c56-84ad-88b8085fcd02
DTSTAMP:20260422T101347Z
DTSTART;VALUE=DATE:20270117
DTEND;VALUE=DATE:20270118
SUMMARY:Krambach Village Markets
DESCRIPTION:Krambach Village  Markets are authentic country markets with a real local flair. \n\nYou will find local stallholders selling country crafts\, preserves\, produce\, plants\, bric-a-brac\, chocolates\, lavender\, cakes\, woodwork\, handmade soap\, gingerbread\, silk painting and much more.\n\nHeld in the old School of Arts Hall\, be sure to arrive early to enjoy delicious country-made morning teas.
LOCATION:\, Buckets Way\, Krambach\, NSW 2429\, NSW\, 2429
RRULE:FREQ=DAILY;INTERVAL=1;UNTIL=20270119T000000Z
END:VEVENT
END:VCALENDAR
