BEGIN:VCALENDAR
VERSION:2.0
PRODID:-//My Community Diary//iCal Event//EN
CALSCALE:GREGORIAN
METHOD:PUBLISH
BEGIN:VEVENT
UID:5ef96884-231b-4923-be2a-0d6139ec5992
DTSTAMP:20260421T224201Z
DTSTART;VALUE=DATE:20260621
DTEND;VALUE=DATE:20260622
SUMMARY:Krambach Village Markets
DESCRIPTION:Krambach Village  Markets are authentic country markets with a real local flair. \n\nYou will find local stallholders selling country crafts\, preserves\, produce\, plants\, bric-a-brac\, chocolates\, lavender\, cakes\, woodwork\, handmade soap\, gingerbread\, silk painting and much more.\n\nHeld in the old School of Arts Hall\, be sure to arrive early to enjoy delicious country-made morning teas.
LOCATION:\, Buckets Way\, Krambach\, NSW 2429\, NSW\, 2429
RRULE:FREQ=DAILY;INTERVAL=1;UNTIL=20260623T000000Z
END:VEVENT
END:VCALENDAR
