BEGIN:VCALENDAR
VERSION:2.0
PRODID:-//My Community Diary//iCal Event//EN
CALSCALE:GREGORIAN
METHOD:PUBLISH
BEGIN:VEVENT
UID:c8910946-6b7d-4f4d-838b-e8baf7b8edee
DTSTAMP:20260422T015652Z
DTSTART;VALUE=DATE:20270123
DTEND;VALUE=DATE:20270124
SUMMARY:Kirribilli Markets
DESCRIPTION:The Kirribilli Market is one of Sydney's most iconic and internationally renowned markets and has been a favourite with both locals and visitors for over 50 years.\n\nThe Kirribilli Markets is one of Sydney's most popular markets\, held on the first and second Sunday and fourth Saturday of every month. Featuring stalls selling new and vintage fashion\, accessories\, emerging local fashion designers\, home and gift wares\, arts and crafts\, jewellery\, plants\, gourmet foods and a whole lot more.
LOCATION:\, 16-18 Fitzroy Street\, Kirribilli\, NSW 2061\, NSW\, 2061
RRULE:FREQ=DAILY;INTERVAL=1;UNTIL=20270125T000000Z
END:VEVENT
END:VCALENDAR
