BEGIN:VCALENDAR
VERSION:2.0
PRODID:-//My Community Diary//iCal Event//EN
CALSCALE:GREGORIAN
METHOD:PUBLISH
BEGIN:VEVENT
UID:2c11118e-ceb4-4dd7-8592-95a8bc08fa7e
DTSTAMP:20260422T021846Z
DTSTART;VALUE=DATE:20260926
DTEND;VALUE=DATE:20260927
SUMMARY:Kirribilli Markets
DESCRIPTION:The Kirribilli Market is one of Sydney's most iconic and internationally renowned markets and has been a favourite with both locals and visitors for over 50 years.\n\nThe Kirribilli Markets is one of Sydney's most popular markets\, held on the first and second Sunday and fourth Saturday of every month. Featuring stalls selling new and vintage fashion\, accessories\, emerging local fashion designers\, home and gift wares\, arts and crafts\, jewellery\, plants\, gourmet foods and a whole lot more.
LOCATION:\, 16-18 Fitzroy Street\, Kirribilli\, NSW 2061\, NSW\, 2061
RRULE:FREQ=DAILY;INTERVAL=1;UNTIL=20260928T000000Z
END:VEVENT
END:VCALENDAR
