BEGIN:VCALENDAR
VERSION:2.0
PRODID:-//My Community Diary//iCal Event//EN
CALSCALE:GREGORIAN
METHOD:PUBLISH
BEGIN:VEVENT
UID:728fcaf7-9a38-4d96-a33e-51f1596f35bc
DTSTAMP:20260421T224140Z
DTSTART;VALUE=DATE:20260927
DTEND;VALUE=DATE:20260928
SUMMARY:King of the Ranges
DESCRIPTION:The King of the Ranges Stockman's Challenge and Bush Festival is held annually in Murrurundi\, NSW on the last weekend in September. It is a three day event that celebrates rural Australia and showcases the traditional bush skills of Australian stockmen and women.\n\nHeld at the foot of the picturesque Great Dividing Range\, this festival has something for everyone including a rodeo\, live music\, market stalls\, bush cooking demonstrations\, dog high jump\, bush poetry\, shoeing\, bareback obstacles\, stock handling displays\, cross country jumping\, a dog trial\, a campdraft\, whipcracking clinics for the kids\, goat races\, heavy horses\, sheep shearing\, action packed finals on Sunday and so much more!\n\nThis is a unique\, family friendly event with on-site camping and so many things to see and do. \n\nThey hope to see you in Murrurundi\, on the last weekend in September\, as you step back in time and celebrate the way the old bushies used to do it.\n\nEntry Cost\nAll tickets $0  - Children under 9yo free. Tickets can be purchased for a single day or whole weekend. Discounted tickets for seniors and visitors 9 - 17yo.
LOCATION:\, 4 Rosella Street\, Murrurundi\, NSW 2338\, NSW\, 2338
RRULE:FREQ=DAILY;INTERVAL=1;UNTIL=20260929T000000Z
END:VEVENT
END:VCALENDAR
