BEGIN:VCALENDAR
VERSION:2.0
PRODID:-//My Community Diary//iCal Event//EN
CALSCALE:GREGORIAN
METHOD:PUBLISH
BEGIN:VEVENT
UID:a80bb58a-f611-4d13-af47-fd937acf9ae0
DTSTAMP:20260422T033642Z
DTSTART;VALUE=DATE:20260704
DTEND;VALUE=DATE:20260705
SUMMARY:Kiama I Do
DESCRIPTION:Join them for this exciting event that will highlight  Kiama as the perfect wedding destination showcasing all participating venues and their amazing setups.\n\nEach venue will be set for a wedding with our amazing wedding coordinators ready to welcome you on the day\,  each venue will be displaying the essential ingredients required to make your day perfect.\n\nRegister online to confirm your attendance.
LOCATION:\, 2 Bong Bong Street\, Kiama\, NSW 2533\, NSW\, 2533
END:VEVENT
END:VCALENDAR
