BEGIN:VCALENDAR
VERSION:2.0
PRODID:-//My Community Diary//iCal Event//EN
CALSCALE:GREGORIAN
METHOD:PUBLISH
BEGIN:VEVENT
UID:4e5c6053-cbcb-40d7-8d14-bf2d88197b05
DTSTAMP:20260422T141340Z
DTSTART;VALUE=DATE:20260621
DTEND;VALUE=DATE:20260622
SUMMARY:Kiama Coastal Classic
DESCRIPTION:This iconic Super Trail event is set to deliver one of the most unforgettable runs on the NSW South Coast.\n\nThe event provides various distances to suit varying levels of fitness. Each section of this incredible run will keep runners\, joggers and walkers mesmerised\, taking in the coastal vista and South Coast icons including Werri and Kiama Beaches\, with rolling green hills on one side and rugged coastline on the other.\n\nChoose your distance from 21km Coastal Classic\, 12km One Way Classic\, 5km Fun Run or the 2km Bolt!
LOCATION:\, Kiama\, NSW 2533\, NSW\, 2533
END:VEVENT
END:VCALENDAR
