BEGIN:VCALENDAR
VERSION:2.0
PRODID:-//My Community Diary//iCal Event//EN
CALSCALE:GREGORIAN
METHOD:PUBLISH
BEGIN:VEVENT
UID:576a8529-43ca-4c6a-9ed5-4e50307f0bfc
DTSTAMP:20260422T002757Z
DTSTART;VALUE=DATE:20260424
DTEND;VALUE=DATE:20260425
SUMMARY:Keith Potger—Celebrating The Seekers: 60 Years
DESCRIPTION:Join founding member Keith Potger AO for a heartfelt musical journey celebrating 60 years of The Seekers—the legendary group that helped define a generation.\n\nFeaturing rare photos\, treasured footage\, and the unmistakable sound of Keith's 12-string guitar\, this intimate concert pays tribute to the timeless harmonies and stories that brought The Seekers to international fame.\n\nKeith shares personal reflections and endearing anecdotes from nearly six decades in music\, including a special tribute to his dear friend and fellow Seeker\, Judith Durham.\n\nRelive the golden era of Australian pop with classics from The Seekers\, beautiful original ballads from Keith's solo albums\, and a selection of '60s to '80s favourites that continue to inspire audiences around the world.\n\nA nostalgic\, uplifting morning celebrating friendship\, harmony\, and the music that shaped generations.\n\nEntry Cost\nAll tickets $20  - Players Member: $20.00\n\nAdult: $30.00\n\nConcession/Student/Child: $25.00\n\n*$1.65 per ticket booking fee applies\n\nTo book wheelchair accessible seating please call the box office on 02 4823 4999.
LOCATION:\, 163 Auburn Street\, Goulburn\, NSW 2580\, NSW\, 2580
END:VEVENT
END:VCALENDAR
