BEGIN:VCALENDAR
VERSION:2.0
PRODID:-//My Community Diary//iCal Event//EN
CALSCALE:GREGORIAN
METHOD:PUBLISH
BEGIN:VEVENT
UID:1c3b41cb-5c5c-4349-ba00-3a1806cfd256
DTSTAMP:20260422T021028Z
DTSTART;VALUE=DATE:20261011
DTEND;VALUE=DATE:20261012
SUMMARY:Kangaroo Valley Farmer's Market
DESCRIPTION:The Kangaroo Valley Farmers Markets are held on the second Sunday of each Month.\n\nLocated at The Friendly Inn\, Kangaroo Valley. The markets supports local growers and makers. \n\nHelping create healthier communities and giving local and visitors more sustainable food choices direct from the growers.
LOCATION:\, 159 Moss Vale Rd\, Kangaroo Valley\, NSW 2577\, NSW\, 2577
RRULE:FREQ=DAILY;INTERVAL=1;UNTIL=20261013T000000Z
END:VEVENT
END:VCALENDAR
