BEGIN:VCALENDAR
VERSION:2.0
PRODID:-//My Community Diary//iCal Event//EN
CALSCALE:GREGORIAN
METHOD:PUBLISH
BEGIN:VEVENT
UID:9e90be21-aa85-43aa-8eee-650f99b981dc
DTSTAMP:20260422T002720Z
DTSTART;VALUE=DATE:20260510
DTEND;VALUE=DATE:20260511
SUMMARY:Kangaroo Valley Farmer's Market
DESCRIPTION:The Kangaroo Valley Farmers Markets are held on the second Sunday of each Month.\n\nLocated at The Friendly Inn\, Kangaroo Valley. The markets supports local growers and makers. \n\nHelping create healthier communities and giving local and visitors more sustainable food choices direct from the growers.
LOCATION:\, 159 Moss Vale Rd\, Kangaroo Valley\, NSW 2577\, NSW\, 2577
RRULE:FREQ=DAILY;INTERVAL=1;UNTIL=20260512T000000Z
END:VEVENT
END:VCALENDAR
