BEGIN:VCALENDAR
VERSION:2.0
PRODID:-//My Community Diary//iCal Event//EN
CALSCALE:GREGORIAN
METHOD:PUBLISH
BEGIN:VEVENT
UID:ff6e26a6-606a-4d64-a4f0-160f27c107bb
DTSTAMP:20260421T222517Z
DTSTART;VALUE=DATE:20261024
DTEND;VALUE=DATE:20261025
SUMMARY:Junee Show
DESCRIPTION:The Junee Show has been a part of the community for over 125 years and serves as a platform to exhibit the shire's finest. The show is an excellent day out for people of all ages with activities to appeal to everyone. They have events ranging from animal exhibitions\, pavilion exhibitions\, the bushman's relay\, showgirl events and of course the ever-popular sideshow alley. \n\nThe first Junee Show was held in 1888\,  with each event being bigger and better than the last one. The wide variety of activities and entertainment ensures there is something for everyone at the Junee Show!\n\nThe team works hard year-round to make sure they bring quality entertainment that will keep you coming back year after year. \n\nHeld annually in October at the Junee Showgrounds.\n\nEntry Cost\nAdult $10 \nChild $2 \nConcession $5 
LOCATION:\, Park Lane\, Junee\, NSW 2663\, NSW\, 2663
RRULE:FREQ=DAILY;INTERVAL=1;UNTIL=20261026T000000Z
END:VEVENT
END:VCALENDAR
