BEGIN:VCALENDAR
VERSION:2.0
PRODID:-//My Community Diary//iCal Event//EN
CALSCALE:GREGORIAN
METHOD:PUBLISH
BEGIN:VEVENT
UID:4ac61cad-263d-4cd3-a0f1-7dee65cba917
DTSTAMP:20260424T100608Z
DTSTART;VALUE=DATE:20260529
DTEND;VALUE=DATE:20260530
SUMMARY:Junee Rotary Farmers Markets
DESCRIPTION:This wonderful market is held on the first Sunday of each month in the car park of the Junee Ex-Services Memorial Club. The market features freshly baked\, handmade and fresh-picked goods from all over the Eastern Riverina region. \n\nRegular products include wine\, olives\, cheese\, flowers\, bread\, pastries\, green groceries\, organic beef and condiments.  This is a child-friendly market with musicians\, food stalls and a great atmosphere.
LOCATION:\, 75 Broadway\, Junee\, NSW 2663\, NSW\, 2663
RRULE:FREQ=DAILY;INTERVAL=1;UNTIL=20260531T000000Z
END:VEVENT
END:VCALENDAR
