BEGIN:VCALENDAR
VERSION:2.0
PRODID:-//My Community Diary//iCal Event//EN
CALSCALE:GREGORIAN
METHOD:PUBLISH
BEGIN:VEVENT
UID:02d1a621-e86f-4a66-bacd-fb011c10ce85
DTSTAMP:20260422T032143Z
DTSTART;VALUE=DATE:20260517
DTEND;VALUE=DATE:20260518
SUMMARY:Junee Rotary Farmers Markets
DESCRIPTION:This wonderful market is held on the first Sunday of each month in the car park of the Junee Ex-Services Memorial Club. The market features freshly baked\, handmade and fresh-picked goods from all over the Eastern Riverina region. \n\nRegular products include wine\, olives\, cheese\, flowers\, bread\, pastries\, green groceries\, organic beef and condiments.  This is a child-friendly market with musicians\, food stalls and a great atmosphere.
LOCATION:\, 75 Broadway\, Junee\, NSW 2663\, NSW\, 2663
RRULE:FREQ=DAILY;INTERVAL=1;UNTIL=20260519T000000Z
END:VEVENT
END:VCALENDAR
