BEGIN:VCALENDAR
VERSION:2.0
PRODID:-//My Community Diary//iCal Event//EN
CALSCALE:GREGORIAN
METHOD:PUBLISH
BEGIN:VEVENT
UID:6bea774f-698e-4aec-a503-973ffbc0407e
DTSTAMP:20260421T224159Z
DTSTART;VALUE=DATE:20260606
DTEND;VALUE=DATE:20260607
SUMMARY:Jubilee parkrun
DESCRIPTION:A free\, weekly\, timed five-kilometre event every Saturday morning at Jubilee Park in Tenterfield\, NSW\, where everyone is welcome!\n\nPlease register before you first come along. Only ever register with parkrun once\, and don't forget to bring a scannable copy of your barcode. If you forget it\, you won't get a time.\n\nAfter each event\, grab a post-parkrun coffee at The Courtyard Cafe in Tenterfield.
LOCATION:\, 92 Manners Street\, Tenterfield\, NSW 2372\, NSW\, 2372
RRULE:FREQ=DAILY;INTERVAL=1;UNTIL=20260608T000000Z
END:VEVENT
END:VCALENDAR
