BEGIN:VCALENDAR
VERSION:2.0
PRODID:-//My Community Diary//iCal Event//EN
CALSCALE:GREGORIAN
METHOD:PUBLISH
BEGIN:VEVENT
UID:e07a697e-309d-4f75-9aeb-58c637815065
DTSTAMP:20260422T005025Z
DTSTART;VALUE=DATE:20260529
DTEND;VALUE=DATE:20260530
SUMMARY:Jr and the Jewel-Tones Live at Club Jamberoo
DESCRIPTION:Get ready for a night drenched in soulful blues and smooth\, groovy jazz as Jr & the Jewel-Tones light up the Club Jamberoo stage.\n\nThis powerhouse lineup brings together some of Sydney's most seasoned musicians for a rich blend of '50s–'60s Chicago blues\, soul-infused rhythms\, and organ-driven jazz that hits you right in the chest. Led by the incomparable Bruce Bongers on vocals\, harmonicas\, and baritone sax\, the band delivers everything from Little Walter-style harmonica burners to deep\, rolling jazz grooves.\n\nWith Dave "Cross-Cut" Shaw on guitar\, John Tweed on keys\, and Darryl Jacobs on drums\, every tune lands with style\, swagger\, and serious musical chemistry. Expect tight rhythms\, expressive solos\, and that irresistible mix of blues grit and jazz sophistication — the kind of live music that fills a room and gets feet moving.\n\nMark the date\, bring your friends\, and settle in for an unforgettable evening of authentic\, high-energy blues and jazz at Club Jamberoo.
LOCATION:\, 11 Allowrie Street\, Jamberoo\, NSW 2533\, NSW\, 2533
END:VEVENT
END:VCALENDAR
