BEGIN:VCALENDAR
VERSION:2.0
PRODID:-//My Community Diary//iCal Event//EN
CALSCALE:GREGORIAN
METHOD:PUBLISH
BEGIN:VEVENT
UID:7d4ad57a-7b0c-4479-b982-714f3bc172ae
DTSTAMP:20260422T020151Z
DTSTART;VALUE=DATE:20260913
DTEND;VALUE=DATE:20260914
SUMMARY:Jimeoin - Goulburn
DESCRIPTION:Catch Jimeoin for his unique blend of observational humour\, physical expressiveness\, and spontaneity. Join Jimeoin as he turns the everyday into the absurd\, often riffing on mundane moments.\n\nSo\, get a peek inside one of our great comic minds as he bounces from one quirky thought to another\n \nSo for a great night of guaranteed laughs\, why don't you do something spontaneous and book a ticket to see one of the greats live. Does anyone ever read these things anyway. I'm sure they don't. If you got this far then well done you.\n\nEntry Cost\nAll tickets $64  - Players Member: $64.00\n\nAdult: $69.00\n\nConcession/Student/Child: $64.00\n\n*$1.65 per ticket booking fee applies \n\nTo book wheelchair accessible seating please call the box office on 02 4823 4999
LOCATION:\, 163 Auburn Street\, Goulburn\, NSW 2580\, NSW\, 2580
END:VEVENT
END:VCALENDAR
