BEGIN:VCALENDAR
VERSION:2.0
PRODID:-//My Community Diary//iCal Event//EN
CALSCALE:GREGORIAN
METHOD:PUBLISH
BEGIN:VEVENT
UID:9bc96e75-26f9-4655-8aa7-00912488ca03
DTSTAMP:20260422T015751Z
DTSTART;VALUE=DATE:20260424
DTEND;VALUE=DATE:20260425
SUMMARY:Jimeoin
DESCRIPTION:Catch Jimeoin for his unique blend of observational humour\, physical expressiveness\, and spontaneity. Join Jimeoin as he turns the everyday into the absurd\, often riffing on mundane moments.\n\nSo\, get a peek inside one of the great comic minds as he bounces from one quirky thought to another.\n\nSo for a great night of guaranteed laughs\, why don't you do something spontaneous and book a ticket to see one of the greats live. Does anyone ever read these things anyway. I'm sure they don't. If you got this far then well done you.\n\nPlease note: The Civic Theatre Box Office is the only authorised ticket seller for this event. Please be very careful when you purchase tickets online that you are following a valid link.\n\nEntry Cost\nAll tickets $64  - Adult $69.00\nConcession $64.00\nMember $64.00\nGroup 6+ $64.00
LOCATION:\, Burns Way\, Wagga Wagga\, NSW 2650\, NSW\, 2650
END:VEVENT
END:VCALENDAR
