BEGIN:VCALENDAR
VERSION:2.0
PRODID:-//My Community Diary//iCal Event//EN
CALSCALE:GREGORIAN
METHOD:PUBLISH
BEGIN:VEVENT
UID:c88a3d40-673f-4c9a-9469-6ff3d18e3650
DTSTAMP:20260422T005015Z
DTSTART;VALUE=DATE:20261001
DTEND;VALUE=DATE:20261002
SUMMARY:JD Fortune Plays The Best of INXS
DESCRIPTION:INXS fans\, get ready – Former INXS frontman JD Fortune is returning! JD fronted INXS from 2005 to 2011 and recorded the final INXS studio album\, Switch. The powerhouse Canadian vocalist will deliver the Best of INXS including 'Need You Tonight'\, 'Never Tear Us Apart'\, 'New Sensation'\, 'Mystify'\, 'Devil Inside'\, 'Don't Change'\, 'Suicide Blonde' + more\, along with the INXS tracks he co wrote\, 'Pretty Vegas' and 'Devil's Party'.\n\nThese shows will honour the legacy of INXS while spotlighting JD Fortune's unmistakable voice\, magnetic charisma\, and commanding stage presence. For INXS fans\, this is unmissable.\n\nEntry Cost\nAll tickets $79.9 
LOCATION:\, 253 Crawford Street\, Queanbeyan\, NSW 2620\, NSW\, 2620
END:VEVENT
END:VCALENDAR
