BEGIN:VCALENDAR
VERSION:2.0
PRODID:-//My Community Diary//iCal Event//EN
CALSCALE:GREGORIAN
METHOD:PUBLISH
BEGIN:VEVENT
UID:b26ddc19-b901-4eb7-a32e-3e63635dcef3
DTSTAMP:20260422T005106Z
DTSTART;VALUE=DATE:20260621
DTEND;VALUE=DATE:20260622
SUMMARY:Jazz and Blues Piano Bar
DESCRIPTION:Step off the Gosford Strip and into another time and place. Jazz and Blues Piano Bar is Funhaus Factory's speakeasy style daytime lounge\, where velvet shadows\, moonlit melodies and timeless piano classics set the tone for a soulful escape.\n\nSink into an intimate\, moody and sophisticated atmosphere filled with low lit elegance\, eclectic details and the spirit of a New Orleans listening room. Expect sultry piano lines that bend and sway\, refined debauchery\, heartfelt expression and swinging momentum\, all in a relaxed space made for lingering.\n\nFeaturing Zoe K live on the baby grand\, bringing her unmistakable blend of smoky soul\, old school substance and New Orleans spirit. Fresh from her second home in New Orleans and now calling the Central Coast home\, Zoe's remarkable voice pays tribute to the greats of jazz\, soul and blues.\n\nEntry Cost\nAll tickets $1  - Pay what you can to support the arts
LOCATION:\, 141 Mann Street\, Gosford\, NSW 2250\, NSW\, 2250
RRULE:FREQ=DAILY;INTERVAL=1;UNTIL=20260623T000000Z
END:VEVENT
END:VCALENDAR
