BEGIN:VCALENDAR
VERSION:2.0
PRODID:-//My Community Diary//iCal Event//EN
CALSCALE:GREGORIAN
METHOD:PUBLISH
BEGIN:VEVENT
UID:49230b18-31de-4fac-b7e7-2157447beed7
DTSTAMP:20260421T224123Z
DTSTART;VALUE=DATE:20260502
DTEND;VALUE=DATE:20260503
SUMMARY:Jason Sims: Horizons
DESCRIPTION:Jason Sims explores perspective and spatial perception through light and reflection\, creating immersive illusions that blur the line between inner and outer worlds. Working with glass\, mirrors\, and light\, he crafts precise sculptural and wall-based works inspired by natural systems and geometric forms\, evoking the sublime and the timeless rhythms of nature.
LOCATION:\, Morrow Street\, Wagga Wagga\, NSW 2650\, NSW\, 2650
RRULE:FREQ=DAILY;INTERVAL=1;UNTIL=20260504T000000Z
END:VEVENT
END:VCALENDAR
