BEGIN:VCALENDAR
VERSION:2.0
PRODID:-//My Community Diary//iCal Event//EN
CALSCALE:GREGORIAN
METHOD:PUBLISH
BEGIN:VEVENT
UID:5904fd25-86ab-463e-bfb1-05ca2965a2dd
DTSTAMP:20260422T054323Z
DTSTART;VALUE=DATE:20260502
DTEND;VALUE=DATE:20260503
SUMMARY:Jason Invernon at Crooked River Estate
DESCRIPTION:Join them on the hill for an unforgettable afternoon with live music by Jason Invernon.\n\nThis free outdoor event invites you to kick back and soak in the stunning views of their estate. Bring your picnic rugs and settle in on the hill overlooking the vineyard—seating is limited\, so come early to snag the best spot. They're family-friendly and welcome dogs too\, just keep them on a leash.\n\nSee you on the hill for a day of music\, relaxation\, and spectacular views!\n\nNote: Outdoor live music is weather-dependent.
LOCATION:\, 11 Willowvale Road\, Gerringong\, NSW 2534\, NSW\, 2534
RRULE:FREQ=DAILY;INTERVAL=1;UNTIL=20260504T000000Z
END:VEVENT
END:VCALENDAR
