BEGIN:VCALENDAR
VERSION:2.0
PRODID:-//My Community Diary//iCal Event//EN
CALSCALE:GREGORIAN
METHOD:PUBLISH
BEGIN:VEVENT
UID:9032a089-3121-4ffb-b68f-77847ffa0279
DTSTAMP:20260422T002816Z
DTSTART;VALUE=DATE:20260531
DTEND;VALUE=DATE:20260601
SUMMARY:Jamberoo Village  Markets
DESCRIPTION:Jamberoo Village Markets runs on the last Sunday of each month.\n\nJamberoo Village Markets is a monthly market in South Coast Jamberoo in NSW incorporating craft stalls alongside fresh food\, fruit\, and vegetables\, local crafts\, flowers\, and homewares as well as live entertainment. \n\nThere are a variety of stalls including flowers\, leatherwork\, clothing\, plants\, organic vegetables\, sweets\, knitwear\, orchids\, bread\, food\, and seasonal specialties. \n\nJamberoo Markets are a dog-friendly (on leash) destination. \n\nPlease check their Instagram site for weather updates and monthly cancellations.
LOCATION:\, Reid Park Corner of Churchill Street and Allowrie Street\, Jamberoo\, NSW 2533\, NSW\, 2533
RRULE:FREQ=DAILY;INTERVAL=1;UNTIL=20260602T000000Z
END:VEVENT
END:VCALENDAR
