BEGIN:VCALENDAR
VERSION:2.0
PRODID:-//My Community Diary//iCal Event//EN
CALSCALE:GREGORIAN
METHOD:PUBLISH
BEGIN:VEVENT
UID:d81906f0-bc24-47dd-a11f-5627f8973f81
DTSTAMP:20260422T005002Z
DTSTART;VALUE=DATE:20270126
DTEND;VALUE=DATE:20270127
SUMMARY:Jamberoo Action Park - Australia Day Celebrations
DESCRIPTION:Welcome to Australia Day at Jamberoo Action Park\, New South Wales's largest family-owned and operated water theme park…..Let's celebrate Australia Day with a day of good old Aussie action!\n\nAustralian music all day long\, competitions and giveaways around Outback Bay\, Meat Pies\, Sausage Rolls\, Burgers\, Fish n Chips\, Calamari\, Pizzas and more.\n\nAnd don't forget to try out the latest Aussie favourite – the Scoop Ice Creamery – this is a must before you leave Jamberoo!\n\nIt's Australiana all day long with the new thrill ride precinct – Velocity Falls – featuring Octo Racer and the Stinger – they're sure to get your heart racing.\n\nHow about the Trilogy of Tube rides? Take on the Taipan! The Funnel Web! The Perfect Storm! You must do all three!\n\nAdmission into the Park covers all rides and attractions and parking is free\, so you can experience all that Jamberoo Action Park has to offer all day long.\n\nExperience Australia Day at Jamberoo Action Park where you control the action!
LOCATION:\, 1215 Jamberoo Rd\, Jamberoo\, NSW 2533\, NSW\, 2533
END:VEVENT
END:VCALENDAR
