BEGIN:VCALENDAR
VERSION:2.0
PRODID:-//My Community Diary//iCal Event//EN
CALSCALE:GREGORIAN
METHOD:PUBLISH
BEGIN:VEVENT
UID:76b3a915-47b4-43b9-9923-dae6d3e4e6c7
DTSTAMP:20260422T005008Z
DTSTART;VALUE=DATE:20260528
DTEND;VALUE=DATE:20260529
SUMMARY:Jam Night at the Lennox Hotel
DESCRIPTION:Thursdays at the Lennox Hotel hit a high note.\nEase into the weekend with a few bevvies and a live jam session in Lennox Head. The Lennox Hotel brings the instruments — you bring the talent.\n\nAll musicians welcome. Good vibes guaranteed.
LOCATION:\, Lennox Head\, NSW 2478\, NSW\, 2478
RRULE:FREQ=DAILY;INTERVAL=1;UNTIL=20260530T000000Z
END:VEVENT
END:VCALENDAR
