BEGIN:VCALENDAR
VERSION:2.0
PRODID:-//My Community Diary//iCal Event//EN
CALSCALE:GREGORIAN
METHOD:PUBLISH
BEGIN:VEVENT
UID:77f8dfe5-54ee-421e-8dfb-6f2213bf5055
DTSTAMP:20260422T035609Z
DTSTART;VALUE=DATE:20260521
DTEND;VALUE=DATE:20260522
SUMMARY:Jam Night at the Lennox Hotel
DESCRIPTION:Thursdays at the Lennox Hotel hit a high note.\nEase into the weekend with a few bevvies and a live jam session in Lennox Head. The Lennox Hotel brings the instruments — you bring the talent.\n\nAll musicians welcome. Good vibes guaranteed.
LOCATION:\, Lennox Head\, NSW 2478\, NSW\, 2478
RRULE:FREQ=DAILY;INTERVAL=1;UNTIL=20260523T000000Z
END:VEVENT
END:VCALENDAR
