BEGIN:VCALENDAR
VERSION:2.0
PRODID:-//My Community Diary//iCal Event//EN
CALSCALE:GREGORIAN
METHOD:PUBLISH
BEGIN:VEVENT
UID:0e621b73-f9bb-4c03-858f-877b92e1f3c6
DTSTAMP:20260422T005233Z
DTSTART;VALUE=DATE:20260507
DTEND;VALUE=DATE:20260508
SUMMARY:Jam Night at the Lennox Hotel
DESCRIPTION:Thursdays at the Lennox Hotel hit a high note.\nEase into the weekend with a few bevvies and a live jam session in Lennox Head. The Lennox Hotel brings the instruments — you bring the talent.\n\nAll musicians welcome. Good vibes guaranteed.
LOCATION:\, Lennox Head\, NSW 2478\, NSW\, 2478
RRULE:FREQ=DAILY;INTERVAL=1;UNTIL=20260509T000000Z
END:VEVENT
END:VCALENDAR
