BEGIN:VCALENDAR
VERSION:2.0
PRODID:-//My Community Diary//iCal Event//EN
CALSCALE:GREGORIAN
METHOD:PUBLISH
BEGIN:VEVENT
UID:80f65778-b977-441a-9ff2-feb1e24c88df
DTSTAMP:20260422T002706Z
DTSTART;VALUE=DATE:20260920
DTEND;VALUE=DATE:20260921
SUMMARY:It’s a Mexican Fiesta!
DESCRIPTION:In this class you will make various traditional dishes coming from Mexico City and surrounding regions. You will prepare dishes rich in flavour\, colour and spice. Traditional Ceviche\, modern tacos and of course a delicious Margarita cheesecake mousse for dessert. All these dishes will come together to create our Mexican Taquiza (banquet).\n\nClass includes tuition\, recipes and meals with regional wine\, beer or soft drinks.\n\nEntry Cost\nAll tickets $215 
LOCATION:\, 29 Kunzea Place\, Springvale\, NSW 2650\, NSW\, 2650
RRULE:FREQ=DAILY;INTERVAL=1;UNTIL=20260922T000000Z
END:VEVENT
END:VCALENDAR
