BEGIN:VCALENDAR
VERSION:2.0
PRODID:-//My Community Diary//iCal Event//EN
CALSCALE:GREGORIAN
METHOD:PUBLISH
BEGIN:VEVENT
UID:66a34169-e45c-4552-8a0a-e7e34fd62e92
DTSTAMP:20260422T015653Z
DTSTART;VALUE=DATE:20260503
DTEND;VALUE=DATE:20260504
SUMMARY:IRONMAN 70.3 Western Sydney
DESCRIPTION:Ironman 70.3 Western Sydney returns to the International Regatta Centre in Penrith. \n\nThe course is nestled at the base of the Blue Mountains and uses the protected Penrith Lakes\, located at the International Regatta Centre\, for the swim. The bike course includes breathtaking views of the Blue Mountains. \n\nThe flat run course takes in Penrith's Nepean River along the scenic Great River Walk before runners return to the iconic Sydney International Regatta Centre venue where supporters have plenty of places to cheer on athletes and to celebrate as they run down the finish chute.\n\nIt's also super easy for you to race\, stay and play in Sydney. With Sydney CBD check-in\, you can check-in right in central Sydney on Friday\, they'll transfer your bike to transition\, and there are athlete buses from the Central Business District to the event village on Saturday and race day. They have so many options to make your race journey the best yet!
LOCATION:\, Old Castlereagh Road\, Penrith\, NSW 2750\, NSW\, 2750
END:VEVENT
END:VCALENDAR
