BEGIN:VCALENDAR
VERSION:2.0
PRODID:-//My Community Diary//iCal Event//EN
CALSCALE:GREGORIAN
METHOD:PUBLISH
BEGIN:VEVENT
UID:326f8e20-5114-4245-a5f1-37df407560ad
DTSTAMP:20260422T005019Z
DTSTART;VALUE=DATE:20260627
DTEND;VALUE=DATE:20260628
SUMMARY:Inverell Birdkeepers Group Annual Bird Sale
DESCRIPTION:Inverell Birdkeepers Group is hosting their annual Bird Sale at the Inverell Showground.\n\nVarious Trade Tables will be attending and hot food\, coffee and drinks will be available on the day.\n\nA friendly group of bird enthusiasts who are willing to share their knowledge and know-how about your feathered friends. \n\nEveryone is welcome to attend. Come along\, you never know who you might meet!\n\nEntry Cost\nAll tickets $2 
LOCATION:\, 10 Tingha Road\, Inverell\, NSW 2360\, NSW\, 2360
END:VEVENT
END:VCALENDAR
