BEGIN:VCALENDAR
VERSION:2.0
PRODID:-//My Community Diary//iCal Event//EN
CALSCALE:GREGORIAN
METHOD:PUBLISH
BEGIN:VEVENT
UID:1c9498e5-8a0f-44bd-a02a-b53c0a44f1c9
DTSTAMP:20260422T035546Z
DTSTART;VALUE=DATE:20260430
DTEND;VALUE=DATE:20260501
SUMMARY:Infusion Games Trivia and Karaoke
DESCRIPTION:Enjoy a fun filled night where you get to test your knowledge and join in the fun testing your singing talent.  \n\nArrive a little earlier and enjoy a wonderful meal in the restaurant.\n\nJoin a great night out.
LOCATION:\, 55 Baylis Street\, Wagga Wagga\, NSW 2650\, NSW\, 2650
RRULE:FREQ=DAILY;INTERVAL=1;UNTIL=20260502T000000Z
END:VEVENT
END:VCALENDAR
