BEGIN:VCALENDAR
VERSION:2.0
PRODID:-//My Community Diary//iCal Event//EN
CALSCALE:GREGORIAN
METHOD:PUBLISH
BEGIN:VEVENT
UID:207d0edc-2ba5-4341-bfad-4fa3d2c9a528
DTSTAMP:20260422T032311Z
DTSTART;VALUE=DATE:20260507
DTEND;VALUE=DATE:20260508
SUMMARY:INDance
DESCRIPTION:Drawing inspiration from V8 racing\, rave culture\, love\, desire and feminine resilience\, INDance 2026 features of four bold independent choreographers shaping contemporary Australian dance today.\n\nINDance returns to the Neilson Studio in 2026 for its fifth year\, presenting Emma Harrison's High Octane\, Jenni Large's Wet Hard Long\, Christopher Gurusamy's 5 Arrows and Oli Mathiesen's The Butterfly Who Flew Into The Rave.\n\nTickets on sale now!\n\nEntry Cost\nAdult $30  - See more\, save more with an Adult 4-Performance Package.
LOCATION:\, Walsh Bay Arts Precinct\, Wharf 4\, 5/15 Hickson Rd\, Dawes Point\, NSW 2000\, NSW\, 2000
RRULE:FREQ=DAILY;INTERVAL=1;UNTIL=20260509T000000Z
END:VEVENT
END:VCALENDAR
