BEGIN:VCALENDAR
VERSION:2.0
PRODID:-//My Community Diary//iCal Event//EN
CALSCALE:GREGORIAN
METHOD:PUBLISH
BEGIN:VEVENT
UID:7802873d-c49d-4a15-8d4c-63c65c9040b7
DTSTAMP:20260422T021151Z
DTSTART;VALUE=DATE:20260523
DTEND;VALUE=DATE:20260524
SUMMARY:In Their Own Words
DESCRIPTION:In Their Own Words is a multi-disciplinary one-woman show\, starring well-known stage-and-screen performer Rachael Beck. It celebrates the songs and stories of twenty trailblazing Australian women\; some who are recognised\, many whom are not.\n\nRachael weaves verbatim words and anecdotes collected from women including Ita Buttrose\, Tanya Plibersek\, Marcia Langton and Carlotta\, with the music of famous Australian songwriters such as Missy Higgins\, Kate Miller-Heidke\, Kate Ceberano\, and Dami Im\, to create a powerful tapestry of female strength and achievement. From artists to scientists\, politicians to humanitarians\, these are stories of triumph\, resilience\, and breakthrough – mostly never before heard on stage.\n\nDeveloped with writer James Millar and directed by Miranda Middleton.\n\nIn Their Own Words celebrates the life\, times and epiphanies of Australian women who have achieved incredible things… and overcome incredible trials.\n\nEntry Cost\nAll tickets $35  - Adult $60.00\nConcession $55.00\nMember $50.00\nYouth U25 $35.00
LOCATION:\, Burns Way\, Wagga Wagga\, NSW 2650\, NSW\, 2650
END:VEVENT
END:VCALENDAR
