BEGIN:VCALENDAR
VERSION:2.0
PRODID:-//My Community Diary//iCal Event//EN
CALSCALE:GREGORIAN
METHOD:PUBLISH
BEGIN:VEVENT
UID:f6c8317e-d50d-4e45-ab15-1fe97674b4f7
DTSTAMP:20260422T003008Z
DTSTART;VALUE=DATE:20260726
DTEND;VALUE=DATE:20260727
SUMMARY:iFLY All Abilities
DESCRIPTION:At iFLY\, they believe the impossible is possible. They believe in encouraging people to dream big and dream often. Each and every single one of us in the world\, in some way or another\, is chasing a better version of ourselves.\n\nFlying is limitless and inclusive.\n\nAt iFLY\, they are proud to empower people to soar beyond their own expectations. To make this possible for each and every single person in the world\, they invite people of all abilities to come fly.\n\nThey believe that regardless of physical or cognitive challenges\, everyone should be given the opportunity to spread their wings. Anyone who comes to fly at iFLY and expresses a desire for assistance will be helped by specially trained flight instructors and will be afforded proper accommodations based on specific challenges.\n\nAll Abilities Events at iFLY Downunder \n\niFLY is a unique event that makes the dream of flight a reality for all.\n\nThis program has been custom designed for those with physical and cognitive challenges to create an environment of support and inclusion\, while focusing on making what seems impossible\, possible.\n\nEntry Cost\nAll tickets $50  - All ability Events - AUD $50pp -  last Sunday of each month
LOCATION:\, 123 Mulgoa Road\, Penrith\, NSW 2750\, NSW\, 2750
RRULE:FREQ=DAILY;INTERVAL=1;UNTIL=20260728T000000Z
END:VEVENT
END:VCALENDAR
