BEGIN:VCALENDAR
VERSION:2.0
PRODID:-//My Community Diary//iCal Event//EN
CALSCALE:GREGORIAN
METHOD:PUBLISH
BEGIN:VEVENT
UID:d4bba63c-2372-4ced-b271-9bf5a6a6e11c
DTSTAMP:20260422T002844Z
DTSTART;VALUE=DATE:20260828
DTEND;VALUE=DATE:20260829
SUMMARY:Hunter Estate Agents Charity Ball
DESCRIPTION:Valley Estate Agents is proud to host their second annual Charity Ball\, with 100% of proceeds going directly to the Hunter Breast Cancer Foundation. An elegant evening dedicated to community\, generosity and meaningful impact. \n\nGet ready to dress to impress\, raise your glass\, and make a difference. Enjoy a beautifully styled ballroom experience\, with canapés and drinks on arrival\, a two course meal\, an inclusive beverage package\, live entertainment and a charity auction featuring sought after prizes.\n\nThis magical evening is all about community\, compassion\, and giving back\, offering locals the perfect chance to come together\, celebrate life\, and support those affected by breast cancer in our community. Whether you're planning a special night for two or wanting to book an entire table of 10\, this will be an unforgettable evening of elegance\, entertainment\, and generosity.\n\nEntry Cost\nAll tickets $175  - *Reserving tickets incur an online booking fee\nGroup $1575  - Table of 10 (Costs Includes 1 Complimentary Ticket)\n*Reserving tickets incur an online booking fee
LOCATION:\, 263 High Street\, Maitland\, NSW 2320\, NSW\, 2320
END:VEVENT
END:VCALENDAR
