BEGIN:VCALENDAR
VERSION:2.0
PRODID:-//My Community Diary//iCal Event//EN
CALSCALE:GREGORIAN
METHOD:PUBLISH
BEGIN:VEVENT
UID:d551703d-6ce0-4475-80ba-2f2d3f115a29
DTSTAMP:20260422T032147Z
DTSTART;VALUE=DATE:20260509
DTEND;VALUE=DATE:20260510
SUMMARY:Hunter Disability Expo
DESCRIPTION:The Hunter Disability Expo brings together a wide range of product and service providers to help people with disability live their best life. Meet with a range of providers including government and advocacy\, aids and equipment\, financial and legal services\, education\, training and employment providers\, social and leisure options\, transport and vehicles\, health and medical products and services\, allied health professionals and support services\, all under one roof in an accessible and inclusive environment.\n\nThe expo will also feature a range of informative and interactive presentations delivered by industry experts\, all-ability adult and children's entertainment.\n\nExpo accessible features: Auslan Interpreters\, live captioning at our stage\, quiet time Saturday 9am-10am\, service animal friendly with watering station\, accessible venue facilities\, drop off zone and accessible parking.\n\nJump the entry queues by registering your attendance for the free Hunter Disability Expo on Friday and Saturday\, 8th and 9th May 2026 at Newcastle Entertainment Centre\, Newcastle Showgrounds\, Broadmeadow. Get organised with the Expo Guide that will give you the lowdown on parking\, exhibitors\, floor plan\, and the stage and entertainment schedule
LOCATION:\, Brown Rd\, Broadmeadow\, NSW 2292\, NSW\, 2292
RRULE:FREQ=DAILY;INTERVAL=1;UNTIL=20260511T000000Z
END:VEVENT
END:VCALENDAR
