BEGIN:VCALENDAR
VERSION:2.0
PRODID:-//My Community Diary//iCal Event//EN
CALSCALE:GREGORIAN
METHOD:PUBLISH
BEGIN:VEVENT
UID:a0eef950-22d4-43bb-9970-8ac432376ea3
DTSTAMP:20260424T084014Z
DTSTART;VALUE=DATE:20260523
DTEND;VALUE=DATE:20260524
SUMMARY:Hot Rod and Custom Auto Expo
DESCRIPTION:Sydney's biggest indoor/outdoor hot rod and custom event.\n\nIn May 2026\, the Hot Rod and Custom Auto Expo will get underway at Rosehill Gardens Racecourse. The largest show of its kind in NSW\, the prestigious event is a melting pot of Sydney's car culture\, combining stunning elite level hot rods and street machines with the underground lowrider and kustom kulture communities. Custom motorcycles\, dozens of car clubs\, a trade show\, outdoor car corral and entertainment for all ages also feature throughout the entire weekend.\n\nThe weekend is an opportunity to look and learn\, with live demonstrations targeted to the average enthusiast\, and dozens of suppliers to the auto restoration and hot rod lifestyle industry. Lowrider bicycles\, a pinstriping art collective and other live events create a visual feast for all ages.
LOCATION:\, James Ruse Drive\, Rosehill\, NSW 2142\, NSW\, 2142
END:VEVENT
END:VCALENDAR
