BEGIN:VCALENDAR
VERSION:2.0
PRODID:-//My Community Diary//iCal Event//EN
CALSCALE:GREGORIAN
METHOD:PUBLISH
BEGIN:VEVENT
UID:40ec0ce7-85b2-41dd-af9b-7ae975b5cd3a
DTSTAMP:20260421T211514Z
DTSTART;VALUE=DATE:20260426
DTEND;VALUE=DATE:20260427
SUMMARY:Homegrown 70's and 80's- Shaws Bay Hotel
DESCRIPTION:Homegrown 70's and 80's bring the retro vibes to Shaws Bay Hotel\, lighting up the Beer Garden with a soundtrack of classic hits.\n\nStep back in time with an afternoon of iconic tunes from two unforgettable decades\, delivered with energy and a feel-good atmosphere. From dancefloor favourites to nostalgic anthems\, Homegrown 70's & 80's know how to get the crowd moving and keep the good times rolling.\n\nSet in the relaxed surrounds of the Beer Garden\, this is the perfect Sunday session to unwind with friends\, enjoy a cold drink and soak up the coastal ambience. Whether you're there for a boogie or simply to enjoy the music\, the vibe is easygoing\, lively and welcoming.\n\nEntry is free\, making it an effortless addition to your weekend plans.\n\nRound up your crew and head to Shaws Bay Hotel for an afternoon of retro hits\, great company and classic Sunday session energy.
LOCATION:\, 3 Brighton St\, East Ballina\, NSW 2478\, NSW\, 2478
END:VEVENT
END:VCALENDAR
