BEGIN:VCALENDAR
VERSION:2.0
PRODID:-//My Community Diary//iCal Event//EN
CALSCALE:GREGORIAN
METHOD:PUBLISH
BEGIN:VEVENT
UID:74b4466e-6f45-4860-9fa1-5829ee16c2ce
DTSTAMP:20260422T004958Z
DTSTART;VALUE=DATE:20270320
DTEND;VALUE=DATE:20270321
SUMMARY:Holbrook Annual Agricultural Show
DESCRIPTION:Holbrook Annual Show will be held in March 2027. \n\nThis includes photography\, horticulture\, cookery\, children's work\, art\, and handicrafts.\n\nSome sections\, such as the wool will have an earlier judging date so please check the show schedule for the closing date for entries.\n\nCattle and Poultry competitions are planned to be held at the Holbrook Sporting Complex (showground) on Sunday.\n\nHorse events are planned to be held at the Holbrook Showgrounds and Sporting Complex on Sunday.
LOCATION:\, 186 Bowler Street\, Holbrook\, NSW 2644\, NSW\, 2644
RRULE:FREQ=DAILY;INTERVAL=1;UNTIL=20270322T000000Z
END:VEVENT
END:VCALENDAR
