BEGIN:VCALENDAR
VERSION:2.0
PRODID:-//My Community Diary//iCal Event//EN
CALSCALE:GREGORIAN
METHOD:PUBLISH
BEGIN:VEVENT
UID:05129db4-b769-4efc-8d76-b331e03c1def
DTSTAMP:20260422T023727Z
DTSTART;VALUE=DATE:20260726
DTEND;VALUE=DATE:20260727
SUMMARY:Hola - Tapas\, Paella\, they love Spain!
DESCRIPTION:A wonderful food journey through different regions of Spain. A fantastic selection of tapas and paella each having a little history of their own. Learn the techniques and simplicity of each dish and how to balance the flavours and spice used in Spanish cooking.\n\nClass includes tuition\, recipes and meals with regional wine\, beer or soft drinks.\n\nEntry Cost\nAll tickets $215 
LOCATION:\, 29 Kunzea Place\, Springvale\, NSW 2650\, NSW\, 2650
RRULE:FREQ=DAILY;INTERVAL=1;UNTIL=20260728T000000Z
END:VEVENT
END:VCALENDAR
