BEGIN:VCALENDAR
VERSION:2.0
PRODID:-//My Community Diary//iCal Event//EN
CALSCALE:GREGORIAN
METHOD:PUBLISH
BEGIN:VEVENT
UID:ede04b90-5f72-4ce2-a439-0247024ad39b
DTSTAMP:20260422T002946Z
DTSTART;VALUE=DATE:20260502
DTEND;VALUE=DATE:20260503
SUMMARY:High Tea at Roundhouse
DESCRIPTION:Crystalbrook Kingsley's famous High Tea has had a rooftop glow-up. Saturdays at Roundhouse are now home to a reimagined High Tea\, served with panoramic harbour views on Level 9.\n\nIndulge in tiers of sweet and savoury delights\, sparkling sips and premium teas and coffee. Whether you're celebrating a special occasion or simply enjoying time with friends\, High Tea at Roundhouse is Newcastle's most elevated afternoon ritual. \n\nEnjoy an assortment of sweet and savoury items\, a serving of scones and complimentary tea or coffee (milkshakes for children). Choose to add a glass of champagne\, 2 hours of bottomless Prosecco or a Mini children's High Tea.\n\nBookings are essential. T&C's apply. Visit the website now for prices and to book.\n\nEntry Cost\nAdult $0  - $85 per person\n\nAdd a glass of champagne - $19 per person\nAdd 2-hours of bottomless Prosecco - $40 per person\nMini children's High Tea - $40 per child\nChild $0  - Mini children's High Tea - $40 per child
LOCATION:\, 282 King St\, Newcastle\, NSW 2300\, NSW\, 2300
RRULE:FREQ=DAILY;INTERVAL=1;UNTIL=20260504T000000Z
END:VEVENT
END:VCALENDAR
