BEGIN:VCALENDAR
VERSION:2.0
PRODID:-//My Community Diary//iCal Event//EN
CALSCALE:GREGORIAN
METHOD:PUBLISH
BEGIN:VEVENT
UID:4027403c-3300-444b-9e4d-8936e9052bca
DTSTAMP:20260421T222321Z
DTSTART;VALUE=DATE:20260721
DTEND;VALUE=DATE:20260722
SUMMARY:Hey Diddle Fiddle and Friends
DESCRIPTION:Local legends Caleb Richards (Fiddle) and Dale Allison (Guitar) return in 2026 with Hey Diddle Fiddle and Friends — and this time\, you get two chances to catch the magic!\n\nFrom fiery Celtic fiddle tunes to toe-tapping Bluegrass and smooth swing jazz\, expect all the charm\, humour\, and world-class musicianship you know and love.\n\nEach show will feature different special guests\, so why choose? Double the fun and catch both!\n\nEntry Cost\nAll tickets $40  - One price $45.00\nMember $40.00
LOCATION:\, Burns Way\, Wagga Wagga\, NSW 2650\, NSW\, 2650
RRULE:FREQ=DAILY;INTERVAL=1;UNTIL=20260723T000000Z
END:VEVENT
END:VCALENDAR
